BEGIN:VCALENDAR
VERSION:2.0
PRODID:-//Profadul - ECPv6.15.20//NONSGML v1.0//EN
CALSCALE:GREGORIAN
METHOD:PUBLISH
X-WR-CALNAME:Profadul
X-ORIGINAL-URL:https://www.profadul.com
X-WR-CALDESC:Események Profadul
REFRESH-INTERVAL;VALUE=DURATION:PT1H
X-Robots-Tag:noindex
X-PUBLISHED-TTL:PT1H
BEGIN:VTIMEZONE
TZID:Europe/Paris
BEGIN:DAYLIGHT
TZOFFSETFROM:+0100
TZOFFSETTO:+0200
TZNAME:CEST
DTSTART:20250330T010000
END:DAYLIGHT
BEGIN:STANDARD
TZOFFSETFROM:+0200
TZOFFSETTO:+0100
TZNAME:CET
DTSTART:20251026T010000
END:STANDARD
BEGIN:DAYLIGHT
TZOFFSETFROM:+0100
TZOFFSETTO:+0200
TZNAME:CEST
DTSTART:20260329T010000
END:DAYLIGHT
BEGIN:STANDARD
TZOFFSETFROM:+0200
TZOFFSETTO:+0100
TZNAME:CET
DTSTART:20261025T010000
END:STANDARD
BEGIN:DAYLIGHT
TZOFFSETFROM:+0100
TZOFFSETTO:+0200
TZNAME:CEST
DTSTART:20270328T010000
END:DAYLIGHT
BEGIN:STANDARD
TZOFFSETFROM:+0200
TZOFFSETTO:+0100
TZNAME:CET
DTSTART:20271031T010000
END:STANDARD
END:VTIMEZONE
BEGIN:VEVENT
DTSTART;TZID=Europe/Paris:20260124T103000
DTEND;TZID=Europe/Paris:20260124T140000
DTSTAMP:20260419T144102
CREATED:20260113T124227Z
LAST-MODIFIED:20260113T124525Z
UID:26250149-1769250600-1769263200@www.profadul.com
SUMMARY:Felnőttképzők Nemzetközi Napja - 2026 - „Tanulás\, ami összeköt”
DESCRIPTION:A Magyar Népfőiskolai Társaság kezdeményezésére\, az Európai Felnőttképzési Társaság (EAEA) támogatásával 2026. január 24-én első alkalommal kerül megrendezésre Magyarországon a Felnőttképzők Nemzetközi Napja\, az ENSZ által kijelölt Nemzetközi Oktatási Naphoz kapcsolódva. \nAz online formában megvalósuló eseménysorozat során különböző szervezetek és intézmények párhuzamos programokkal csatlakoznak az ünnephez\, bemutatva a felnőttképzés sokszínűségét\, innovatív gyakorlatait és társadalmi szerepét. \nA központi rendezvényt a Magyar Népfőiskolai Társaság és partnerei szervezik. \nBővebben
URL:https://www.profadul.com/esemeny/felnottkepzok-nemzetkozi-napja-2026-tanulas-ami-osszekot/
LOCATION:Online
CATEGORIES:online esemény
ATTACH;FMTTYPE=image/jpeg:https://www.profadul.com/wp-content/uploads/2026/01/FELNOTTKEPZOK-NEMZETKOZI-NAPJA.jpg
END:VEVENT
END:VCALENDAR